BEGIN:VCALENDAR
VERSION:2.0
PRODID:-//Fundacja &quot;Pokonać Endometriozę&quot; - ECPv6.15.20//NONSGML v1.0//EN
CALSCALE:GREGORIAN
METHOD:PUBLISH
X-WR-CALNAME:Fundacja &quot;Pokonać Endometriozę&quot;
X-ORIGINAL-URL:https://pokonacendometrioze.pl
X-WR-CALDESC:Wydarzenia dla Fundacja &quot;Pokonać Endometriozę&quot;
REFRESH-INTERVAL;VALUE=DURATION:PT1H
X-Robots-Tag:noindex
X-PUBLISHED-TTL:PT1H
BEGIN:VTIMEZONE
TZID:Europe/Warsaw
BEGIN:DAYLIGHT
TZOFFSETFROM:+0100
TZOFFSETTO:+0200
TZNAME:CEST
DTSTART:20250330T010000
END:DAYLIGHT
BEGIN:STANDARD
TZOFFSETFROM:+0200
TZOFFSETTO:+0100
TZNAME:CET
DTSTART:20251026T010000
END:STANDARD
BEGIN:DAYLIGHT
TZOFFSETFROM:+0100
TZOFFSETTO:+0200
TZNAME:CEST
DTSTART:20260329T010000
END:DAYLIGHT
BEGIN:STANDARD
TZOFFSETFROM:+0200
TZOFFSETTO:+0100
TZNAME:CET
DTSTART:20261025T010000
END:STANDARD
BEGIN:DAYLIGHT
TZOFFSETFROM:+0100
TZOFFSETTO:+0200
TZNAME:CEST
DTSTART:20270328T010000
END:DAYLIGHT
BEGIN:STANDARD
TZOFFSETFROM:+0200
TZOFFSETTO:+0100
TZNAME:CET
DTSTART:20271031T010000
END:STANDARD
END:VTIMEZONE
BEGIN:VEVENT
DTSTART;TZID=Europe/Warsaw:20260315T150000
DTEND;TZID=Europe/Warsaw:20260315T170000
DTSTAMP:20260419T190259
CREATED:20260308T191528Z
LAST-MODIFIED:20260311T080644Z
UID:6655-1773586800-1773594000@pokonacendometrioze.pl
SUMMARY:Stoisko w ramach Obłędnego Dnia Kobiet w Olecku
DESCRIPTION:Zapraszamy na stoisko fundacji w ramach Obłędnego Dnia Kobiet w Olecku\, gdzie spotkacie się z naszą Ambasadorką\, Kasią Potrykus i dowiecie się więcej o endometriozie!
URL:https://pokonacendometrioze.pl/wydarzenie/stoisko-w-ramach-oblednego-dnia-kobiet-w-olecku/
LOCATION:Hala Lega MOSIR Olecko\, Park 1\, Olecko\, Poland
ATTACH;FMTTYPE=image/png:https://pokonacendometrioze.pl/wp-content/uploads/2026/03/obraz-4.png
END:VEVENT
BEGIN:VEVENT
DTSTART;TZID=Europe/Warsaw:20260314T110000
DTEND;TZID=Europe/Warsaw:20260314T190000
DTSTAMP:20260419T190259
CREATED:20260313T180226Z
LAST-MODIFIED:20260313T180700Z
UID:6717-1773486000-1773514800@pokonacendometrioze.pl
SUMMARY:Kobieta w Centrum - M1 Czeladź
DESCRIPTION:Zapraszamy na stoisko fundacji w M1 w Czeladzi w ramach akcji „Kobieta w Centrum”
URL:https://pokonacendometrioze.pl/wydarzenie/kobieta-w-centrum-m1-czeladz/
END:VEVENT
BEGIN:VEVENT
DTSTART;TZID=Europe/Warsaw:20260314T110000
DTEND;TZID=Europe/Warsaw:20260314T190000
DTSTAMP:20260419T190259
CREATED:20260313T175958Z
LAST-MODIFIED:20260313T180650Z
UID:6714-1773486000-1773514800@pokonacendometrioze.pl
SUMMARY:Kobieta w Centrum - M1 Zabrze
DESCRIPTION:Zapraszamy na stoisko fundacji w M1 w Zabrzu w ramach akcji „Kobieta w Centrum”
URL:https://pokonacendometrioze.pl/wydarzenie/kobieta-w-centrum-m1-zabrze/
END:VEVENT
BEGIN:VEVENT
DTSTART;TZID=Europe/Warsaw:20260314T100000
DTEND;TZID=Europe/Warsaw:20260314T173000
DTSTAMP:20260419T190259
CREATED:20260313T102818Z
LAST-MODIFIED:20260313T102820Z
UID:6708-1773482400-1773509400@pokonacendometrioze.pl
SUMMARY:Spotkaj się z nami na Wielkopolskim Kongresie Kobiet
DESCRIPTION:Zapraszamy na Wielkopolski Kongres Kobiet\, gdzie będzie można spotkać się z prezes fundacji\, Lucyną Jaworską-Wojtas
URL:https://pokonacendometrioze.pl/wydarzenie/spotkaj-sie-z-nami-na-wielkopolskim-kongresie-kobiet/
LOCATION:Politechnika Poznańska Wydział Architektury\, Rychlewskiego 2\, Poznań\, Poland
END:VEVENT
BEGIN:VEVENT
DTSTART;TZID=Europe/Warsaw:20260314T093000
DTEND;TZID=Europe/Warsaw:20260314T163000
DTSTAMP:20260419T190259
CREATED:20260308T190949Z
LAST-MODIFIED:20260311T080630Z
UID:6650-1773480600-1773505800@pokonacendometrioze.pl
SUMMARY:Interdyscyplinarna Konferencja: Endometrioza – gdzie szukać zdrowia?
DESCRIPTION:Mamy zaszczyt objąć patronatem oraz prowadzić prelekcję w ramach Interdyscyplinarnej Konferencji „Endometrioza – gdzie szukać zdrowia?”. \n\n\n\nGłos fundacji na konferencji będzie reprezentować Ambasadorka Anna Kwaśniewska oraz wolontariusz Krzysztof Kwaśniewski. \n\n\n\nSzczegóły pod adresem: https://fb.me/e/hEJrpdXu6  \n\n\n\nSerdecznie zapraszamy!
URL:https://pokonacendometrioze.pl/wydarzenie/interdyscyplinarna-konferencja-endometrioza-gdzie-szukac-zdrowia/
LOCATION:B&B Hotel\, ul. Warszawska 19\, Kielce\, Poland
CATEGORIES:Patronat
ATTACH;FMTTYPE=image/png:https://pokonacendometrioze.pl/wp-content/uploads/2026/03/obraz-3.png
END:VEVENT
BEGIN:VEVENT
DTSTART;TZID=Europe/Warsaw:20260312T133000
DTEND;TZID=Europe/Warsaw:20260312T150000
DTSTAMP:20260419T190259
CREATED:20260311T205721Z
LAST-MODIFIED:20260311T205723Z
UID:6673-1773322200-1773327600@pokonacendometrioze.pl
SUMMARY:Udział Lucyny Jaworskiej-Wojtas w Kongresie Wyzwań Zdrowotnych w Katowicach
DESCRIPTION:Lucyna Jaworska-Wojtas wystąpi w panelu „Zdrowie kobiet: niedodiagnozowane i niezaopiekowane obszary” w ramach Kongresu Wyzwań Zdrowotnych w Katowicach.
URL:https://pokonacendometrioze.pl/wydarzenie/udzial-lucyny-jaworskiej-wojtas-w-kongresie-wyzwan-zdrowotnych-w-katowicach/
LOCATION:Międzynarodowe Centrum Kongresowe w Katowicach\, plac Sławika i Antalla 1\, Katowice
END:VEVENT
BEGIN:VEVENT
DTSTART;TZID=Europe/Warsaw:20260311T180000
DTEND;TZID=Europe/Warsaw:20260311T200000
DTSTAMP:20260419T190259
CREATED:20260303T181813Z
LAST-MODIFIED:20260303T182328Z
UID:6630-1773252000-1773259200@pokonacendometrioze.pl
SUMMARY:EndoGadanki z psychoonkolożką Joanną Bożek-Deutsch
DESCRIPTION:Na marcowe EndoGadanki Ambasadorka Fundacji Pokonać Endometriozę\, Agata Gołąb\, zaprosiła Joannę Bożek-Deutsch – psychoonkolożkę. \n\n\n\nSpotkanie jest przeznaczone dla osób zmagających się z endometriozą\, które chcą lepiej radzić sobie z wyzwaniami emocjonalnymi związanymi z chorobą. \n\n\n\nDlaczego warto dołączyć: \n\n\n\n– poznasz strategie radzenia sobie z trudnościami w codziennym życiu z endometriozą \n\n\n\n– dowiesz się\, jak dbać o swoje emocje i budować wewnętrzne wsparcie \n\n\n\n– będziesz mogła/mógł zadać pytania ekspertce w bezpiecznej\, wspierającej atmosferze. \n\n\n\nData i godzina: 11 marca 2026\, godz. 18:00 \n\n\n\nForma: online (spotkanie nie będzie nagrywane) \n\n\n\nZapisy: agata.golab@pokonacendometrioze.pl \n\n\n\nLink do wydarzenia zostanie przesłany dzień przed spotkaniem.
URL:https://pokonacendometrioze.pl/wydarzenie/6630/
LOCATION:Online
CATEGORIES:Endokawy
ATTACH;FMTTYPE=image/png:https://pokonacendometrioze.pl/wp-content/uploads/2026/03/obraz-1.png
ORGANIZER;CN="Fundacja Pokona%C4%87 Endometrioz%C4%99":MAILTO:kontakt@pokonacendometrioze.pl
END:VEVENT
BEGIN:VEVENT
DTSTART;TZID=Europe/Warsaw:20260308T110000
DTEND;TZID=Europe/Warsaw:20260308T170000
DTSTAMP:20260419T190259
CREATED:20260302T202303Z
LAST-MODIFIED:20260302T202310Z
UID:6618-1772967600-1772989200@pokonacendometrioze.pl
SUMMARY:Stoisko na Gdańskim Kongresie Zdrowia Kobiet
DESCRIPTION:
URL:https://pokonacendometrioze.pl/wydarzenie/stoisko-na-gdanskim-kongresie-zdrowia-kobiet/
LOCATION:Europejskie Centrum Solidarności\, pl. Solidarności 1\, Gdańsk\, Poland
END:VEVENT
BEGIN:VEVENT
DTSTART;TZID=Europe/Warsaw:20260308T100000
DTEND;TZID=Europe/Warsaw:20260308T170000
DTSTAMP:20260419T190259
CREATED:20260302T200813Z
LAST-MODIFIED:20260302T200828Z
UID:6612-1772964000-1772989200@pokonacendometrioze.pl
SUMMARY:Spotkanie z Gosią\, wolontariuszką fundacji na wydarzeniu "Być Kobietą Nowoczesną" w Troszynie
DESCRIPTION:Odwiedź nasze stoisko i spotkaj się z wolontariuszką fundacji\, Małgorzatą Wojtalewską na Dniu Kobiet „Być Kobietą Nowoczesną” w Troszynie
URL:https://pokonacendometrioze.pl/wydarzenie/spotkanie-z-gosia-wolontariuszka-fundacji-na-wydarzeniu-byc-kobieta-nowoczesna-w-troszynie/
LOCATION:Zespół Szkół Powiatowych w Troszynie\, Juliusza Słowackiego 3\, Troszyn\, Poland
END:VEVENT
BEGIN:VEVENT
DTSTART;TZID=Europe/Warsaw:20260307T150000
DTEND;TZID=Europe/Warsaw:20260307T180000
DTSTAMP:20260419T190259
CREATED:20260302T200111Z
LAST-MODIFIED:20260302T200216Z
UID:6607-1772895600-1772906400@pokonacendometrioze.pl
SUMMARY:Prelekcja w ramach V Forum Kobiet Świadomych w Skawinie
DESCRIPTION:
URL:https://pokonacendometrioze.pl/wydarzenie/prelekcja-w-ramach-v-forum-kobiet-swiadomych-w-skawinie/
LOCATION:Hotel Dworek Skawiński\, ul. Kublińskiego 4\, Skawina\, Poland
END:VEVENT
BEGIN:VEVENT
DTSTART;TZID=Europe/Warsaw:20260307T120000
DTEND;TZID=Europe/Warsaw:20260307T170000
DTSTAMP:20260419T190259
CREATED:20260303T181122Z
LAST-MODIFIED:20260303T184643Z
UID:6625-1772884800-1772902800@pokonacendometrioze.pl
SUMMARY:Spotkanie autorskie z Nikolą Matejską
DESCRIPTION:Serdecznie zapraszamy na spotkanie autorskie z Nikolą Matejską\, promujące drugi tom książki „Taka twoja uroda. Historia po diagnozie”\, które mamy zaszczyt objąć patronatem.
URL:https://pokonacendometrioze.pl/wydarzenie/spotkanie-autorskie-z-nikola-matejska/
LOCATION:Sala im. Zbigniewa Herberta w Książnicy Pomorskiej\, ul. Podgórna 15/16\, Szczecin\, Poland
CATEGORIES:Patronat
END:VEVENT
BEGIN:VEVENT
DTSTART;TZID=Europe/Warsaw:20260307T090000
DTEND;TZID=Europe/Warsaw:20260307T140000
DTSTAMP:20260419T190259
CREATED:20260302T195411Z
LAST-MODIFIED:20260302T195755Z
UID:6599-1772874000-1772892000@pokonacendometrioze.pl
SUMMARY:Warsztaty w ramach III Ogólnopolskiej Konferencji Endometriozy w Krakowie
DESCRIPTION:Zapraszamy wszystkie pacjentki na specjalny panel i warsztaty w ramach III Ogólnopolskiej Konferencji Endometriozy w Krakowie. To wyjątkowa okazja\, aby zdobyć rzetelną wiedzę\, porozmawiać ze specjalistami i zadać wszystkie nurtujące pytania.Program – SALA A:09:00 – 10:00 – Sesja I: Rola fizjoterapii w leczeniu endometriozy10:00 – 11:00 – Sesja II: Czy chora na endometriozę wymaga szczególnej troski? – rola specjalistycznej opieki pielęgniarskiej i położniczej11:00 – 11:20 – Przerwa11:20 – 14:00 – Warsztaty dla pacjentek Fundacji Pokonać Endometriozę – sesja pytań i odpowiedzi ze specjalistami ze Szpital Uniwersytecki w KrakowieWydarzenie jest bezpłatne\, jednak obowiązuje wcześniejsza rejestracja – liczba miejsc jest ograniczona. Zarejestruj się: https://ogolnopolska-konferencja-endometriozy-2026.konfeo.com/pl/groups Dołącz do nas i poznaj praktyczne sposoby wsparcia w codziennym życiu z endometriozą. Czekamy na Was w Krakowie!
URL:https://pokonacendometrioze.pl/wydarzenie/warsztaty-w-ramach-iii-ogolnopolskiej-konferencji-endometriozy-w-krakowie/
LOCATION:Park Inn by Radisson\, ul. Monte Cassino 2\, Kraków\, Poland
END:VEVENT
END:VCALENDAR