BEGIN:VCALENDAR
VERSION:2.0
PRODID:-//Fundacja &quot;Pokonać Endometriozę&quot; - ECPv6.15.20//NONSGML v1.0//EN
CALSCALE:GREGORIAN
METHOD:PUBLISH
X-WR-CALNAME:Fundacja &quot;Pokonać Endometriozę&quot;
X-ORIGINAL-URL:https://pokonacendometrioze.pl
X-WR-CALDESC:Wydarzenia dla Fundacja &quot;Pokonać Endometriozę&quot;
REFRESH-INTERVAL;VALUE=DURATION:PT1H
X-Robots-Tag:noindex
X-PUBLISHED-TTL:PT1H
BEGIN:VTIMEZONE
TZID:Europe/Warsaw
BEGIN:DAYLIGHT
TZOFFSETFROM:+0100
TZOFFSETTO:+0200
TZNAME:CEST
DTSTART:20250330T010000
END:DAYLIGHT
BEGIN:STANDARD
TZOFFSETFROM:+0200
TZOFFSETTO:+0100
TZNAME:CET
DTSTART:20251026T010000
END:STANDARD
BEGIN:DAYLIGHT
TZOFFSETFROM:+0100
TZOFFSETTO:+0200
TZNAME:CEST
DTSTART:20260329T010000
END:DAYLIGHT
BEGIN:STANDARD
TZOFFSETFROM:+0200
TZOFFSETTO:+0100
TZNAME:CET
DTSTART:20261025T010000
END:STANDARD
BEGIN:DAYLIGHT
TZOFFSETFROM:+0100
TZOFFSETTO:+0200
TZNAME:CEST
DTSTART:20270328T010000
END:DAYLIGHT
BEGIN:STANDARD
TZOFFSETFROM:+0200
TZOFFSETTO:+0100
TZNAME:CET
DTSTART:20271031T010000
END:STANDARD
END:VTIMEZONE
BEGIN:VEVENT
DTSTART;TZID=Europe/Warsaw:20260320T160000
DTEND;TZID=Europe/Warsaw:20260320T180000
DTSTAMP:20260419T174008
CREATED:20260311T080406Z
LAST-MODIFIED:20260311T080407Z
UID:6667-1774022400-1774029600@pokonacendometrioze.pl
SUMMARY:EndoKawa w Grudziądzu - spotkanie z fizjoterapeutką Dominiką Górską-Głąbińską
DESCRIPTION:W ramach Miesiąca Świadomości Endometriozy Ambasadorka Fundacji Pokonać Endometriozę\, Dominika Górska-Głąbińska\, zaprasza na EndoKawę w Grudziądzu – spotkanie\, które łączy rozmowę\, wsparcie i praktyczne ćwiczenia. \n\n\n\nRozpoczniemy o godz. 16:00 od wspólnej kawy i rozmowy o tym\, jak pracować z własnym ciałem w bólu\, by lepiej radzić sobie na co dzień. Podczas wydarzenia odbędą się też ćwiczenia wspomagające walkę z bólem\, które można wykonywać samodzielnie w domu. To szansa\, by spotkać osoby z podobnymi doświadczeniami\, wymienić się spostrzeżeniami i poznać sprawdzone strategie radzenia sobie z trudnościami endometriozy. \n\n\n\nData i godzina: 20 marca 2026 r.\, godz. 16:00Miejsce: Basen Strzemyk\, ul. Korczaka 23 (Bistro Sala Smaku)Przewidywany czas trwania: 2 godzinyWydarzenie: bezpłatne\, obowiązuje limit miejscLink do zapisów: https://endokawa-grudziadz.konfeo.com/pl/groupsProsimy zabrać wygodny strój do ćwiczeń
URL:https://pokonacendometrioze.pl/wydarzenie/endokawa-w-grudziadzu-spotkanie-z-fizjoterapeutka-dominika-gorska-glabinska/
LOCATION:Bistro Sala Smaku\, Basen Strzemyk\, ul. Korczaka 23\, Grudziądz\, Poland
ATTACH;FMTTYPE=image/png:https://pokonacendometrioze.pl/wp-content/uploads/2026/03/image-1.png
END:VEVENT
END:VCALENDAR